BEGIN:VCALENDAR
VERSION:2.0
PRODID:-//Saint-Yrieix-sur-Charente - ECPv6.3.6//NONSGML v1.0//EN
CALSCALE:GREGORIAN
METHOD:PUBLISH
X-WR-CALNAME:Saint-Yrieix-sur-Charente
X-ORIGINAL-URL:https://saintyrieixsurcharente.fr
X-WR-CALDESC:évènements pour Saint-Yrieix-sur-Charente
REFRESH-INTERVAL;VALUE=DURATION:PT1H
X-Robots-Tag:noindex
X-PUBLISHED-TTL:PT1H
BEGIN:VTIMEZONE
TZID:Europe/Paris
BEGIN:DAYLIGHT
TZOFFSETFROM:+0100
TZOFFSETTO:+0200
TZNAME:CEST
DTSTART:20260329T010000
END:DAYLIGHT
BEGIN:STANDARD
TZOFFSETFROM:+0200
TZOFFSETTO:+0100
TZNAME:CET
DTSTART:20261025T010000
END:STANDARD
END:VTIMEZONE
BEGIN:VEVENT
DTSTART;TZID=Europe/Paris:20260425T100000
DTEND;TZID=Europe/Paris:20260425T113000
DTSTAMP:20260425T012051
CREATED:20260422T081420Z
LAST-MODIFIED:20260422T081420Z
UID:19069-1777111200-1777116600@saintyrieixsurcharente.fr
SUMMARY:Atelier créatif
DESCRIPTION:Durant le festival « Drôles de livres »\, la médiathèque vous propose un atelier animé par l’illustratrice Sibylle Delacroix : \nL’étrange voyage \nCréation d’une carte paysage à insérer dans une page-enveloppe « compartiment de train ».\nTechnique : dessin\, peinture\, découpage\, collage \n𝐆r𝐚t𝐮i𝐭 – Accessible dès 𝟔 𝐚n𝐬 \nréservation : https://www.lalpha.org/evenem…/agenda/934-droles-de-livres ou au 05 45 38 95 00 \n 
URL:https://saintyrieixsurcharente.fr/agenda/atelier-creatif/
LOCATION:Médiathèque\, 19 bis avenue de l'Union\, SAINT-YRIEIX SUR CHARENTE\, 16710
ATTACH;FMTTYPE=image/png:https://saintyrieixsurcharente.fr/wp-content/uploads/2026/04/Droles_de_livres_2026.png
END:VEVENT
END:VCALENDAR