BEGIN:VCALENDAR
VERSION:2.0
PRODID:-//Saint-Yrieix-sur-Charente - ECPv6.3.6//NONSGML v1.0//EN
CALSCALE:GREGORIAN
METHOD:PUBLISH
X-ORIGINAL-URL:https://saintyrieixsurcharente.fr
X-WR-CALDESC:évènements pour Saint-Yrieix-sur-Charente
REFRESH-INTERVAL;VALUE=DURATION:PT1H
X-Robots-Tag:noindex
X-PUBLISHED-TTL:PT1H
BEGIN:VTIMEZONE
TZID:Europe/Paris
BEGIN:DAYLIGHT
TZOFFSETFROM:+0100
TZOFFSETTO:+0200
TZNAME:CEST
DTSTART:20240331T010000
END:DAYLIGHT
BEGIN:STANDARD
TZOFFSETFROM:+0200
TZOFFSETTO:+0100
TZNAME:CET
DTSTART:20241027T010000
END:STANDARD
END:VTIMEZONE
BEGIN:VEVENT
DTSTART;TZID=Europe/Paris:20240417T153000
DTEND;TZID=Europe/Paris:20240417T193000
DTSTAMP:20260422T035821
CREATED:20240403T080352Z
LAST-MODIFIED:20240403T080421Z
UID:12763-1713367800-1713382200@saintyrieixsurcharente.fr
SUMMARY:Collecte de sang
DESCRIPTION:Rendez-vous mercredi 17 avril 2024 de 15h30 à 19h30 à la salle des fêtes de La Combe.
URL:https://saintyrieixsurcharente.fr/agenda/collecte-de-sang-6/
LOCATION:Salle de la Combe\, 152 Rue Jean et Constant Priolaud\, Saint-Yrieix-sur-Charente\, 16710
CATEGORIES:Associations,Santé
ATTACH;FMTTYPE=image/jpeg:https://saintyrieixsurcharente.fr/wp-content/uploads/2024/04/rs_st-yrieix-sur-charente.jpg
END:VEVENT
END:VCALENDAR