BEGIN:VCALENDAR
VERSION:2.0
PRODID:-//Saint-Yrieix-sur-Charente - ECPv6.3.6//NONSGML v1.0//EN
CALSCALE:GREGORIAN
METHOD:PUBLISH
X-WR-CALNAME:Saint-Yrieix-sur-Charente
X-ORIGINAL-URL:https://saintyrieixsurcharente.fr
X-WR-CALDESC:évènements pour Saint-Yrieix-sur-Charente
REFRESH-INTERVAL;VALUE=DURATION:PT1H
X-Robots-Tag:noindex
X-PUBLISHED-TTL:PT1H
BEGIN:VTIMEZONE
TZID:Europe/Paris
BEGIN:DAYLIGHT
TZOFFSETFROM:+0100
TZOFFSETTO:+0200
TZNAME:CEST
DTSTART:20250330T010000
END:DAYLIGHT
BEGIN:STANDARD
TZOFFSETFROM:+0200
TZOFFSETTO:+0100
TZNAME:CET
DTSTART:20251026T010000
END:STANDARD
END:VTIMEZONE
BEGIN:VEVENT
DTSTART;TZID=Europe/Paris:20250624T183000
DTEND;TZID=Europe/Paris:20250624T193000
DTSTAMP:20260423T153252
CREATED:20250623T145933Z
LAST-MODIFIED:20250623T145940Z
UID:16554-1750789800-1750793400@saintyrieixsurcharente.fr
SUMMARY:Prochaine séance du conseil municipal
DESCRIPTION:Le conseil municipal se réunira mardi 24 juin 2025 \nVoici l’ordre du jour. \nLes débats seront retransmis en direct sur la page Facebook de la ville : Ville de Saint-Yrieix sur Charente \nPour rappel\, les séances du conseil municipal sont ouvertes au public\, tous les Arédiens sont les bienvenus !
URL:https://saintyrieixsurcharente.fr/agenda/prochaine-seance-du-conseil-municipal-12/
LOCATION:Mairie de Saint-Yrieix sur Charente\, 19 avenue de l'Union\, SAINT-YRIEIX SUR CHARENTE
CATEGORIES:Conseil municipal
ATTACH;FMTTYPE=image/jpeg:https://saintyrieixsurcharente.fr/wp-content/uploads/2022/12/Seance-du-conseil-municipal-2-1.jpg
END:VEVENT
END:VCALENDAR