BEGIN:VCALENDAR
VERSION:2.0
PRODID:-//Saint-Yrieix-sur-Charente - ECPv6.3.6//NONSGML v1.0//EN
CALSCALE:GREGORIAN
METHOD:PUBLISH
X-ORIGINAL-URL:https://saintyrieixsurcharente.fr
X-WR-CALDESC:évènements pour Saint-Yrieix-sur-Charente
REFRESH-INTERVAL;VALUE=DURATION:PT1H
X-Robots-Tag:noindex
X-PUBLISHED-TTL:PT1H
BEGIN:VTIMEZONE
TZID:Europe/Paris
BEGIN:DAYLIGHT
TZOFFSETFROM:+0100
TZOFFSETTO:+0200
TZNAME:CEST
DTSTART:20230326T010000
END:DAYLIGHT
BEGIN:STANDARD
TZOFFSETFROM:+0200
TZOFFSETTO:+0100
TZNAME:CET
DTSTART:20231029T010000
END:STANDARD
END:VTIMEZONE
BEGIN:VEVENT
DTSTART;TZID=Europe/Paris:20231219T073000
DTEND;TZID=Europe/Paris:20231219T083000
DTSTAMP:20260422T173246
CREATED:20231212T133511Z
LAST-MODIFIED:20231212T133511Z
UID:11736-1702971000-1702974600@saintyrieixsurcharente.fr
SUMMARY:Petit déjeuner à la cantine
DESCRIPTION:Nouvelle opération petit déjeuner à la cantine !\n\n\nAvant que les enfants ne partent en vacances\, le service Vie Éducative Territoriale vous propose de venir partager 𝐮𝐧 𝐩𝐞𝐭𝐢𝐭 𝐝𝐞́𝐣𝐞𝐮𝐧𝐞𝐫 spécial Noël 𝐚̀ 𝐥𝐚 𝐜𝐚𝐧𝐭𝐢𝐧𝐞 avec votre/vos enfant(s) :\n\n\n\nÉcoles de Vénat : mardi 19 décembre : de 7h30 à 8h30 à la restauration scolaire\n\n\nÉcoles de Bardines : jeudi 21 décembre : de 7h30 à 8h45 à la restauration scolaire\n\n\n\nVenez partager un moment convivial favorisant l’éveil alimentaire avec votre/vos enfant(s).
URL:https://saintyrieixsurcharente.fr/agenda/petit-dejeuner-a-la-cantine-3/
LOCATION:Groupe scolaire de Vénat\, rue de l'ancienne mairie\, 16710
CATEGORIES:Écoles
ATTACH;FMTTYPE=image/png:https://saintyrieixsurcharente.fr/wp-content/uploads/2023/12/Petit-dej-site-internet.png
END:VEVENT
BEGIN:VEVENT
DTSTART;TZID=Europe/Paris:20231221T073000
DTEND;TZID=Europe/Paris:20231221T084500
DTSTAMP:20260422T173246
CREATED:20231212T133621Z
LAST-MODIFIED:20231212T133628Z
UID:11739-1703143800-1703148300@saintyrieixsurcharente.fr
SUMMARY:Petit déjeuner à la cantine
DESCRIPTION:Nouvelle opération petit déjeuner à la cantine !\n\n\nAvant que les enfants ne partent en vacances\, le service Vie Éducative Territoriale vous propose de venir partager 𝐮𝐧 𝐩𝐞𝐭𝐢𝐭 𝐝𝐞́𝐣𝐞𝐮𝐧𝐞𝐫 spécial Noël 𝐚̀ 𝐥𝐚 𝐜𝐚𝐧𝐭𝐢𝐧𝐞 avec votre/vos enfant(s) :\n\n\n\nÉcoles de Vénat : mardi 19 décembre : de 7h30 à 8h30 à la restauration scolaire\n\n\nÉcoles de Bardines : jeudi 21 décembre : de 7h30 à 8h45 à la restauration scolaire\n\n\n\nVenez partager un moment convivial favorisant l’éveil alimentaire avec votre/vos enfant(s).
URL:https://saintyrieixsurcharente.fr/agenda/petit-dejeuner-a-la-cantine-4/
LOCATION:Groupe scolaire de Bardines\, rue des Écoles\, 16710
CATEGORIES:Écoles
ATTACH;FMTTYPE=image/png:https://saintyrieixsurcharente.fr/wp-content/uploads/2023/12/Petit-dej-site-internet.png
END:VEVENT
END:VCALENDAR