BEGIN:VCALENDAR
VERSION:2.0
PRODID:-//Saint-Yrieix-sur-Charente - ECPv6.3.6//NONSGML v1.0//EN
CALSCALE:GREGORIAN
METHOD:PUBLISH
X-ORIGINAL-URL:https://saintyrieixsurcharente.fr
X-WR-CALDESC:évènements pour Saint-Yrieix-sur-Charente
REFRESH-INTERVAL;VALUE=DURATION:PT1H
X-Robots-Tag:noindex
X-PUBLISHED-TTL:PT1H
BEGIN:VTIMEZONE
TZID:Europe/Paris
BEGIN:DAYLIGHT
TZOFFSETFROM:+0100
TZOFFSETTO:+0200
TZNAME:CEST
DTSTART:20240331T010000
END:DAYLIGHT
BEGIN:STANDARD
TZOFFSETFROM:+0200
TZOFFSETTO:+0100
TZNAME:CET
DTSTART:20241027T010000
END:STANDARD
END:VTIMEZONE
BEGIN:VEVENT
DTSTART;TZID=Europe/Paris:20241203T083000
DTEND;TZID=Europe/Paris:20241203T123000
DTSTAMP:20260421T234015
CREATED:20241125T132659Z
LAST-MODIFIED:20241125T143805Z
UID:14740-1733214600-1733229000@saintyrieixsurcharente.fr
SUMMARY:Cuisine ouverte
DESCRIPTION:Avis aux parents d’élèves : \nLa restauration scolaire vous ouvre à nouveau ses portes à l’occasion des Gastronomades\, le mardi 3 décembre 2024 : \n– 8h30 à 11h30 : Venez découvrir les coulisses de la cantine de vos enfants. \nSuivez la préparation du repas à la cuisine centrale\, rue des écoles. \nNombre de places disponibles limité à 4 personnes. \n  \n– 11h30 à 13h00 : venez déjeuner à la cantine ! Repas offert\, sur réservation\, places limitées : \no Vénat = 5 personnes maximum\, \no Bardines = 8 personnes maximum. \nLes repas seront servis dans la salle de restaurations des élémentaires. \nDécouvrez ici le menu \nInformations et réservations : \ncontact@saintyrieix-16.fr \n05 45 38 69 50
URL:https://saintyrieixsurcharente.fr/agenda/cuisine-ouverte-5/
LOCATION:Écoles de Saint-Yrieix
CATEGORIES:Écoles
ATTACH;FMTTYPE=image/png:https://saintyrieixsurcharente.fr/wp-content/uploads/2024/11/Cuisine-ouverte10.png
END:VEVENT
BEGIN:VEVENT
DTSTART;TZID=Europe/Paris:20241217T073000
DTEND;TZID=Europe/Paris:20241217T083000
DTSTAMP:20260421T234016
CREATED:20241209T113117Z
LAST-MODIFIED:20241209T113117Z
UID:14965-1734420600-1734424200@saintyrieixsurcharente.fr
SUMMARY:Petit déjeuner en famille à la cantine - Spécial Noël
DESCRIPTION:Nouvelle opération petit déjeuner à la cantine !\nAvant que les enfants ne partent en vacances\, le service Vie Éducative Territoriale vous propose de venir partager un petit déjeuner en famille à la cantine avec votre/vos enfant(s) : \n– Écoles de Vénat :\nMardi 17 décembre : de 7h30 à 8h30 à la restauration scolaire \n– Écoles de Bardines :\nJeudi 19 décembre : de 7h30 à 8h45 à la restauration scolaire \nVenez partager un moment convivial favorisant l’éveil alimentaire avec votre/vos enfant(s).
URL:https://saintyrieixsurcharente.fr/agenda/petit-dejeuner-en-famille-a-la-cantine-special-noel/
LOCATION:Groupe scolaire de Vénat\, rue de l'ancienne mairie\, 16710
CATEGORIES:Écoles,Santé
ATTACH;FMTTYPE=image/png:https://saintyrieixsurcharente.fr/wp-content/uploads/2024/12/Petit-dej-a-la-cantine-agenda-site.png
END:VEVENT
BEGIN:VEVENT
DTSTART;TZID=Europe/Paris:20241219T073000
DTEND;TZID=Europe/Paris:20241219T084500
DTSTAMP:20260421T234016
CREATED:20241209T113200Z
LAST-MODIFIED:20241209T113200Z
UID:14968-1734593400-1734597900@saintyrieixsurcharente.fr
SUMMARY:Petit déjeuner en famille à la cantine - Spécial Noël
DESCRIPTION:Nouvelle opération petit déjeuner à la cantine !\nAvant que les enfants ne partent en vacances\, le service Vie Éducative Territoriale vous propose de venir partager un petit déjeuner en famille à la cantine avec votre/vos enfant(s) : \n– Écoles de Vénat :\nMardi 17 décembre : de 7h30 à 8h30 à la restauration scolaire \n– Écoles de Bardines :\nJeudi 19 décembre : de 7h30 à 8h45 à la restauration scolaire \nVenez partager un moment convivial favorisant l’éveil alimentaire avec votre/vos enfant(s).
URL:https://saintyrieixsurcharente.fr/agenda/petit-dejeuner-en-famille-a-la-cantine-special-noel-2/
LOCATION:Groupe scolaire de Bardines\, rue des Écoles\, 16710
CATEGORIES:Écoles,Santé
ATTACH;FMTTYPE=image/png:https://saintyrieixsurcharente.fr/wp-content/uploads/2024/12/Petit-dej-a-la-cantine-agenda-site.png
END:VEVENT
END:VCALENDAR