BEGIN:VCALENDAR
VERSION:2.0
PRODID:-//Saint-Yrieix-sur-Charente - ECPv6.3.6//NONSGML v1.0//EN
CALSCALE:GREGORIAN
METHOD:PUBLISH
X-ORIGINAL-URL:https://saintyrieixsurcharente.fr
X-WR-CALDESC:évènements pour Saint-Yrieix-sur-Charente
REFRESH-INTERVAL;VALUE=DURATION:PT1H
X-Robots-Tag:noindex
X-PUBLISHED-TTL:PT1H
BEGIN:VTIMEZONE
TZID:Europe/Paris
BEGIN:DAYLIGHT
TZOFFSETFROM:+0100
TZOFFSETTO:+0200
TZNAME:CEST
DTSTART:20250330T010000
END:DAYLIGHT
BEGIN:STANDARD
TZOFFSETFROM:+0200
TZOFFSETTO:+0100
TZNAME:CET
DTSTART:20251026T010000
END:STANDARD
END:VTIMEZONE
BEGIN:VEVENT
DTSTART;TZID=Europe/Paris:20250624T073000
DTEND;TZID=Europe/Paris:20250624T083000
DTSTAMP:20260421T145748
CREATED:20250619T100945Z
LAST-MODIFIED:20250619T100945Z
UID:16496-1750750200-1750753800@saintyrieixsurcharente.fr
SUMMARY:Petit déjeuner à la cantine
DESCRIPTION:Nouvelle opération petit déjeuner à la cantine !\nAvant que les enfants ne partent en vacances\, le service Vie Éducative Territoriale vous propose de venir partager un petit déjeuner en famille à la cantine avec votre/vos enfant(s) : \n– Écoles de Vénat :\nMardi 24 juin : de 7h30 à 8h30 à la restauration scolaire \n– Écoles de Bardines :\nJeudi 26 juin : de 7h30 à 8h45 à la restauration scolaire \nVenez partager un moment convivial favorisant l’éveil alimentaire avec votre/vos enfant(s).
URL:https://saintyrieixsurcharente.fr/agenda/petit-dejeuner-a-la-cantine-7/
LOCATION:Groupe scolaire de Vénat\, rue de l'ancienne mairie\, 16710
CATEGORIES:Écoles
ATTACH;FMTTYPE=image/png:https://saintyrieixsurcharente.fr/wp-content/uploads/2025/06/Petit-dejeuner-a-la-cantine3.png
END:VEVENT
BEGIN:VEVENT
DTSTART;TZID=Europe/Paris:20250626T073000
DTEND;TZID=Europe/Paris:20250626T084500
DTSTAMP:20260421T145748
CREATED:20250619T101100Z
LAST-MODIFIED:20250619T101100Z
UID:16499-1750923000-1750927500@saintyrieixsurcharente.fr
SUMMARY:Petit déjeuner à la cantine
DESCRIPTION:Nouvelle opération petit déjeuner à la cantine !\nAvant que les enfants ne partent en vacances\, le service Vie Éducative Territoriale vous propose de venir partager un petit déjeuner en famille à la cantine avec votre/vos enfant(s) : \n– Écoles de Vénat :\nMardi 24 juin : de 7h30 à 8h30 à la restauration scolaire \n– Écoles de Bardines :\nJeudi 26 juin : de 7h30 à 8h45 à la restauration scolaire \nVenez partager un moment convivial favorisant l’éveil alimentaire avec votre/vos enfant(s).
URL:https://saintyrieixsurcharente.fr/agenda/petit-dejeuner-a-la-cantine-8/
LOCATION:Groupe scolaire de Bardines\, rue des Écoles\, 16710
CATEGORIES:Écoles
ATTACH;FMTTYPE=image/png:https://saintyrieixsurcharente.fr/wp-content/uploads/2025/06/Petit-dejeuner-a-la-cantine3.png
END:VEVENT
END:VCALENDAR