BEGIN:VCALENDAR
VERSION:2.0
PRODID:-//Saint-Yrieix-sur-Charente - ECPv6.3.6//NONSGML v1.0//EN
CALSCALE:GREGORIAN
METHOD:PUBLISH
X-ORIGINAL-URL:https://saintyrieixsurcharente.fr
X-WR-CALDESC:évènements pour Saint-Yrieix-sur-Charente
REFRESH-INTERVAL;VALUE=DURATION:PT1H
X-Robots-Tag:noindex
X-PUBLISHED-TTL:PT1H
BEGIN:VTIMEZONE
TZID:Europe/Paris
BEGIN:DAYLIGHT
TZOFFSETFROM:+0100
TZOFFSETTO:+0200
TZNAME:CEST
DTSTART:20240331T010000
END:DAYLIGHT
BEGIN:STANDARD
TZOFFSETFROM:+0200
TZOFFSETTO:+0100
TZNAME:CET
DTSTART:20241027T010000
END:STANDARD
END:VTIMEZONE
BEGIN:VEVENT
DTSTART;TZID=Europe/Paris:20240627T073000
DTEND;TZID=Europe/Paris:20240627T090000
DTSTAMP:20260422T100427
CREATED:20240617T155550Z
LAST-MODIFIED:20240617T155550Z
UID:13400-1719473400-1719478800@saintyrieixsurcharente.fr
SUMMARY:Petit déjeuner en famille à la cantine - Comme un goût de vacances
DESCRIPTION:Nouvelle opération petit déjeuner à la cantine !\nAvant que les enfants ne partent en vacances\, le service Vie Éducative Territoriale vous propose de venir partager un petit déjeuner en famille à la cantine avec votre/vos enfant(s) : \n– Écoles de Vénat :\nMardi 25 juin : de 7h30 à 8h30 à la restauration scolaire \n– Écoles de Bardines :\nJeudi 27 juin : de 7h30 à 8h45 à la restauration scolaire \nVenez partager un moment convivial favorisant l’éveil alimentaire avec votre/vos enfant(s).
URL:https://saintyrieixsurcharente.fr/agenda/petit-dejeuner-en-famille-a-la-cantine-comme-un-gout-de-vacances/
LOCATION:Groupe scolaire de Bardines\, rue des Écoles\, 16710
CATEGORIES:Écoles,Santé
ATTACH;FMTTYPE=image/png:https://saintyrieixsurcharente.fr/wp-content/uploads/2024/06/Petit-dej-a-la-cantine-juin-site-internet.png
END:VEVENT
END:VCALENDAR