BEGIN:VCALENDAR
VERSION:2.0
PRODID:-//Saint-Yrieix-sur-Charente - ECPv6.3.6//NONSGML v1.0//EN
CALSCALE:GREGORIAN
METHOD:PUBLISH
X-ORIGINAL-URL:https://saintyrieixsurcharente.fr
X-WR-CALDESC:évènements pour Saint-Yrieix-sur-Charente
REFRESH-INTERVAL;VALUE=DURATION:PT1H
X-Robots-Tag:noindex
X-PUBLISHED-TTL:PT1H
BEGIN:VTIMEZONE
TZID:Europe/Paris
BEGIN:DAYLIGHT
TZOFFSETFROM:+0100
TZOFFSETTO:+0200
TZNAME:CEST
DTSTART:20250330T010000
END:DAYLIGHT
BEGIN:STANDARD
TZOFFSETFROM:+0200
TZOFFSETTO:+0100
TZNAME:CET
DTSTART:20251026T010000
END:STANDARD
END:VTIMEZONE
BEGIN:VEVENT
DTSTART;TZID=Europe/Paris:20250328T073000
DTEND;TZID=Europe/Paris:20250328T123000
DTSTAMP:20260421T205203
CREATED:20250317T112933Z
LAST-MODIFIED:20250317T113531Z
UID:15803-1743147000-1743165000@saintyrieixsurcharente.fr
SUMMARY:Cuisine ouverte
DESCRIPTION:Avis aux parents d’élèves : \nLa restauration scolaire vous ouvre à nouveau ses portes le vendredi 28 mars 2025 : \n\nVous suivrez la préparation du repas à la cuisine centrale\, rue des écoles.\nLes cuisiniers vous accueillent à partir de 7h30\, jusqu’à 11h00\, venez quand vous pouvez sur ce créneau\, même une petite heure.\n\nSuivez la préparation du repas à la cuisine centrale\, rue des écoles. \nNombre de places disponibles limité à 6 personnes. \n  \n\n11h30 à 13h00 : venez déjeuner à la cantine ! Repas offert\, sur réservation\, places limitées :\n\no Vénat = 5 personnes maximum\, \no Bardines = 6 personnes maximum. \nLes repas seront servis dans la salle de restaurations des élémentaires. \nDécouvrez ici le menu \nInformations et réservations : \ncontact@saintyrieix-16.fr \n05 45 38 69 50
URL:https://saintyrieixsurcharente.fr/agenda/cuisine-ouverte-7/
LOCATION:Écoles de Saint-Yrieix
CATEGORIES:Écoles
ATTACH;FMTTYPE=image/png:https://saintyrieixsurcharente.fr/wp-content/uploads/2025/03/Cuisine-ouverte-agenda-site.png
END:VEVENT
END:VCALENDAR