BEGIN:VCALENDAR
VERSION:2.0
PRODID:-//Saint-Yrieix-sur-Charente - ECPv6.3.6//NONSGML v1.0//EN
CALSCALE:GREGORIAN
METHOD:PUBLISH
X-ORIGINAL-URL:https://saintyrieixsurcharente.fr
X-WR-CALDESC:évènements pour Saint-Yrieix-sur-Charente
REFRESH-INTERVAL;VALUE=DURATION:PT1H
X-Robots-Tag:noindex
X-PUBLISHED-TTL:PT1H
BEGIN:VTIMEZONE
TZID:Europe/Paris
BEGIN:DAYLIGHT
TZOFFSETFROM:+0100
TZOFFSETTO:+0200
TZNAME:CEST
DTSTART:20250330T010000
END:DAYLIGHT
BEGIN:STANDARD
TZOFFSETFROM:+0200
TZOFFSETTO:+0100
TZNAME:CET
DTSTART:20251026T010000
END:STANDARD
END:VTIMEZONE
BEGIN:VEVENT
DTSTART;TZID=Europe/Paris:20250417T073000
DTEND;TZID=Europe/Paris:20250417T084500
DTSTAMP:20260421T192911
CREATED:20250407T140250Z
LAST-MODIFIED:20250407T140250Z
UID:15958-1744875000-1744879500@saintyrieixsurcharente.fr
SUMMARY:Petit déjeuner en famille à la cantine
DESCRIPTION:Nouvelle opération petit déjeuner à la cantine !\nAvant que les enfants ne partent en vacances\, le service Vie Éducative Territoriale vous propose de venir partager un petit déjeuner en famille à la cantine avec votre/vos enfant(s) : \n– Écoles de Vénat :\nMardi 15 avril : de 7h30 à 8h30 à la restauration scolaire \n– Écoles de Bardines :\nJeudi 17 avril : de 7h30 à 8h45 à la restauration scolaire \nVenez partager un moment convivial favorisant l’éveil alimentaire avec votre/vos enfant(s).
URL:https://saintyrieixsurcharente.fr/agenda/petit-dejeuner-en-famille-a-la-cantine-2/
LOCATION:Groupe scolaire de Bardines\, rue des Écoles\, 16710
CATEGORIES:Écoles,Santé
ATTACH;FMTTYPE=image/png:https://saintyrieixsurcharente.fr/wp-content/uploads/2025/04/Petit-dej-agenda-site-internet.png
END:VEVENT
END:VCALENDAR