BEGIN:VCALENDAR
VERSION:2.0
PRODID:-//Saint-Yrieix-sur-Charente - ECPv6.3.6//NONSGML v1.0//EN
CALSCALE:GREGORIAN
METHOD:PUBLISH
X-ORIGINAL-URL:https://saintyrieixsurcharente.fr
X-WR-CALDESC:évènements pour Saint-Yrieix-sur-Charente
REFRESH-INTERVAL;VALUE=DURATION:PT1H
X-Robots-Tag:noindex
X-PUBLISHED-TTL:PT1H
BEGIN:VTIMEZONE
TZID:Europe/Paris
BEGIN:DAYLIGHT
TZOFFSETFROM:+0100
TZOFFSETTO:+0200
TZNAME:CEST
DTSTART:20230326T010000
END:DAYLIGHT
BEGIN:STANDARD
TZOFFSETFROM:+0200
TZOFFSETTO:+0100
TZNAME:CET
DTSTART:20231029T010000
END:STANDARD
END:VTIMEZONE
BEGIN:VEVENT
DTSTART;TZID=Europe/Paris:20230708T190000
DTEND;TZID=Europe/Paris:20230708T233000
DTSTAMP:20260422T141754
CREATED:20230612T090352Z
LAST-MODIFIED:20230612T093559Z
UID:9791-1688842800-1688859000@saintyrieixsurcharente.fr
SUMMARY:Soirée estivale
DESCRIPTION:  \n\n19h : concert « Trio Loiselle »-  Théâtre de verdure de l’Esplanade\n\nReprises de chansons françaises (Bourvil\, S. Gainsbourg\, J. Moreau …) et de standards de jazz (Nat King Cole\, C. Edwards\, M. Monroe …). \nLa voix caresse le public aux sons des ukulélés\, des guitares\, du banjo et de la contrebasse. Tous ces timbres et sonorités que les artistes mélangent et harmonisent savamment selon les titres\, surprennent l’oreille et font revivre autrement des partitions inoubliables. \nApéritif offert par la mairie et pique-nique tiré du panier \n\n21h : spectacle « Entre le zist et le geste » Cie Cirque content pour peu – Derrière la mairie\n\nÊtre “Entre le zist et le zeste”\, c’est ménager la chèvre et le chou\, être mi figue mi raisin… Un bon point de départ pour deux acrobates désorientés qui\, soudain\, sont pris d’un terrible doute. \nEst-ce le bon geste\, la bonne figure ? Le cinéma muet et burlesque de Charlie Chaplin n’est pas loin\, les situations absurdes se bousculent\, les malentendus s’enchaînent de manière loufoque car il faut continuer coûte que coûte. \nAlors on invente\, on dérive\, on rebondit. Et on rit !… \n\n22h15 : Ciné plein air : projection du film « Le livre de la jungle » de Jon Favreau – Parvis de la mairie\n\nhttps://www.allocine.fr/film/fichefilm_gen_cfilm=222692.html \nLes aventures de Mowgli\, un petit homme élevé dans la jungle par une famille de loups. Mais Mowgli n’est plus le bienvenu dans la jungle depuis que le redoutable tigre Shere Khan\, qui porte les cicatrices des hommes\, promet d’éliminer celui qu’il considère comme une menace. Poussé à abandonner le seul foyer qu’il ait jamais connu\, Mowgli se lance dans un voyage captivant\, à la découverte de soi\, guidé par son mentor la panthère Bagheera et l’ours Baloo. Sur le chemin\, Mowgli rencontre des créatures comme Kaa\, un pyton à la voix séduisante et au regard hypnotique et le Roi Louie\, qui tente de contraindre Mowgli à lui révéler le secret de la fleur rouge et insaisissable : le feu. \n  \n 
URL:https://saintyrieixsurcharente.fr/agenda/soiree-estivale/
LOCATION:Mairie de Saint-Yrieix sur Charente\, 19 avenue de l'Union\, SAINT-YRIEIX SUR CHARENTE
CATEGORIES:Concerts,Culture,Manifestations
ATTACH;FMTTYPE=image/jpeg:https://saintyrieixsurcharente.fr/wp-content/uploads/2023/06/Soiree-estivale-actu-site-internet-2023.jpg
END:VEVENT
END:VCALENDAR