BEGIN:VCALENDAR
VERSION:2.0
PRODID:-//Saint-Yrieix-sur-Charente - ECPv6.3.6//NONSGML v1.0//EN
CALSCALE:GREGORIAN
METHOD:PUBLISH
X-ORIGINAL-URL:https://saintyrieixsurcharente.fr
X-WR-CALDESC:évènements pour Saint-Yrieix-sur-Charente
REFRESH-INTERVAL;VALUE=DURATION:PT1H
X-Robots-Tag:noindex
X-PUBLISHED-TTL:PT1H
BEGIN:VTIMEZONE
TZID:Europe/Paris
BEGIN:DAYLIGHT
TZOFFSETFROM:+0100
TZOFFSETTO:+0200
TZNAME:CEST
DTSTART:20240331T010000
END:DAYLIGHT
BEGIN:STANDARD
TZOFFSETFROM:+0200
TZOFFSETTO:+0100
TZNAME:CET
DTSTART:20241027T010000
END:STANDARD
END:VTIMEZONE
BEGIN:VEVENT
DTSTART;TZID=Europe/Paris:20240906T163000
DTEND;TZID=Europe/Paris:20240906T193000
DTSTAMP:20260421T175202
CREATED:20240730T143659Z
LAST-MODIFIED:20240827T135643Z
UID:13771-1725640200-1725651000@saintyrieixsurcharente.fr
SUMMARY:La rentrée des associations
DESCRIPTION:Venez à la rencontre des associations de la commune pour trouver une nouvelle activité à pratiquer\, il y en aura pour tous les goûts ! \nDe nombreuses animations vous seront proposées : découvrez ici le programme  \n 
URL:https://saintyrieixsurcharente.fr/agenda/la-rentree-des-associations-3/
LOCATION:Mairie de Saint-Yrieix sur Charente\, 19 avenue de l'Union\, SAINT-YRIEIX SUR CHARENTE
CATEGORIES:Associations,Manifestations
ATTACH;FMTTYPE=image/png:https://saintyrieixsurcharente.fr/wp-content/uploads/2024/07/Design-sans-titre158.png
END:VEVENT
BEGIN:VEVENT
DTSTART;VALUE=DATE:20240913
DTEND;VALUE=DATE:20240916
DTSTAMP:20260421T175202
CREATED:20240801T152736Z
LAST-MODIFIED:20240802T145935Z
UID:13794-1726185600-1726444799@saintyrieixsurcharente.fr
SUMMARY:Week-end culturel
DESCRIPTION:Tout un week-end de spectacles à Saint-Yrieix sur Charente les 13\, 14 et 15 septembre. \nDécouvrez le programme complet
URL:https://saintyrieixsurcharente.fr/agenda/week-end-culturel-3/
CATEGORIES:Culture,Manifestations
ATTACH;FMTTYPE=image/png:https://saintyrieixsurcharente.fr/wp-content/uploads/2024/08/WEEK-END-CULTUREL-20242.png
END:VEVENT
BEGIN:VEVENT
DTSTART;TZID=Europe/Paris:20240913T183000
DTEND;TZID=Europe/Paris:20240913T193000
DTSTAMP:20260421T175202
CREATED:20240802T075807Z
LAST-MODIFIED:20240802T150002Z
UID:13797-1726252200-1726255800@saintyrieixsurcharente.fr
SUMMARY:La peur au ventre
DESCRIPTION:Spectacle de cascades proposé dans le cadre du Week-end Culturel. \n« Jacques était un enfant timide et assez réservé. \nJeune\, on s’aperçoit vite qu’il est doué d’une extrême maladresse\, elle ne cessera de jalonner son parcours professionnel. \nPourtant avec la famille de cascadeurs « Meyeur »\, sa carrière était toute tracée. \nAujourd’hui\, et après des années de psychothérapie\, Jacques vient réaliser une cascade qui pourrait lui donner sa place dans l’arbre généalogique des « Meyeur ». \nCie Toi d’abord  \nTout public à partir de 6 ans \nDurée : 1 heure \nDécouvrez ici le programme complet du Week-end Culturel
URL:https://saintyrieixsurcharente.fr/agenda/la-peur-au-ventre/
LOCATION:Gymnase des Berneries\, 7 All. Léo Lagrange\, Saint-Yrieix-sur-Charente\, 16710\, France
CATEGORIES:Culture,Manifestations,Spectacle
ATTACH;FMTTYPE=image/jpeg:https://saintyrieixsurcharente.fr/wp-content/uploads/2024/08/La-peur-au-ventre-scaled.jpeg
END:VEVENT
BEGIN:VEVENT
DTSTART;TZID=Europe/Paris:20240913T210000
DTEND;TZID=Europe/Paris:20240913T220000
DTSTAMP:20260421T175202
CREATED:20240802T131900Z
LAST-MODIFIED:20240802T150138Z
UID:13826-1726261200-1726264800@saintyrieixsurcharente.fr
SUMMARY:Trajectoires
DESCRIPTION:Programmation Soirs Bleus \nEntre danse hip-hop\, burlesque et théâtre d’objets\, Trajectoires met en scène cinq personnages dans des tableaux saisissants de poésie et d’énergie. \nCompagnie Pyramid \nTout public à partir de 6 ans \nDurée : 1 heure \nDécouvrez ici le programme complet du Week-end Culturel
URL:https://saintyrieixsurcharente.fr/agenda/trajectoires-2/
LOCATION:autour des gymnases
CATEGORIES:Culture,Manifestations,Spectacle
ATTACH;FMTTYPE=image/jpeg:https://saintyrieixsurcharente.fr/wp-content/uploads/2024/08/Mustapha-Ridaoui-8-scaled.jpeg
END:VEVENT
BEGIN:VEVENT
DTSTART;TZID=Europe/Paris:20240914T090000
DTEND;TZID=Europe/Paris:20240914T130000
DTSTAMP:20260421T175202
CREATED:20240820T100548Z
LAST-MODIFIED:20240820T100638Z
UID:13905-1726304400-1726318800@saintyrieixsurcharente.fr
SUMMARY:Le marché fête... l'artisanat
DESCRIPTION:Rendez-vous le 𝐬𝐚𝐦𝐞𝐝𝐢 𝟏𝟒 𝐬𝐞𝐩𝐭𝐞𝐦𝐛𝐫𝐞 sur la place des Rochers pour votre 𝐦𝐚𝐫𝐜𝐡𝐞́ 𝐟𝐞̂𝐭𝐞… 𝐥’𝐚𝐫𝐭𝐢𝐬𝐚𝐧𝐚𝐭 ! \nNombreux exposants : \n– Créateurs : bijoux\, bougie\, savons\, décoration\, couture\, accessoires pour maison\, accessoires pour bébé\, tricots\, créations florales… – Alimentation (artisans locaux) : miel\, viande\, poisson\, fruits – Buvette sur place – Restauration : pizzas\n– Animation : 𝐛𝐚𝐥𝐚𝐝𝐞𝐬 𝐠𝐫𝐚𝐭𝐮𝐢𝐭𝐞𝐬 𝐞𝐧 𝐩𝐞𝐭𝐢𝐭 𝐭𝐫𝐚𝐢𝐧 avec le 𝐭𝐫𝐚𝐢𝐧 𝐝𝐞𝐬 𝐕𝐚𝐥𝐨𝐢𝐬
URL:https://saintyrieixsurcharente.fr/agenda/le-marche-fete-lartisanat/
LOCATION:Place des Rochers\, Pl. des Rochers\, Saint-Yrieix-sur-Charente\, 16710\, France
CATEGORIES:Manifestations,marchés
ATTACH;FMTTYPE=image/png:https://saintyrieixsurcharente.fr/wp-content/uploads/2024/08/Le-marche-fete-lartisanat.png
END:VEVENT
BEGIN:VEVENT
DTSTART;TZID=Europe/Paris:20240914T170000
DTEND;TZID=Europe/Paris:20240914T174000
DTSTAMP:20260421T175202
CREATED:20240802T132452Z
LAST-MODIFIED:20240802T150208Z
UID:13828-1726333200-1726335600@saintyrieixsurcharente.fr
SUMMARY:Cuivre et caoutchou
DESCRIPTION:Programmation Soirs Bleus \nCe solo de cirque contemporain est une véritable prouesse acrobatique. Sur un mât chinois de de 80 kilos et 5 mètres de long\, l’artiste commence au sol avant de dresser\, seul\, l’édifice. Du haut de sa construction\, il souligne la musicalité du moment en jouant des airs de Bach ou de Klemzer\, à la trompette. \nCie Les Cieux Galvanisés \nTout public \nDurée : 40 min \nDécouvrez ici le programme complet du Week-end Culturel
URL:https://saintyrieixsurcharente.fr/agenda/cuivre-et-caoutchou/
LOCATION:Mairie de Saint-Yrieix sur Charente\, 19 avenue de l'Union\, SAINT-YRIEIX SUR CHARENTE
CATEGORIES:Culture,Manifestations,Spectacle
ATTACH;FMTTYPE=image/jpeg:https://saintyrieixsurcharente.fr/wp-content/uploads/2024/08/cuivre-et-caoutchouc-Paysage_Public_VanessaChambard-1-scaled.jpg
END:VEVENT
BEGIN:VEVENT
DTSTART;TZID=Europe/Paris:20240914T183000
DTEND;TZID=Europe/Paris:20240914T191500
DTSTAMP:20260421T175202
CREATED:20240802T133023Z
LAST-MODIFIED:20240802T150237Z
UID:13831-1726338600-1726341300@saintyrieixsurcharente.fr
SUMMARY:Les Baudrières
DESCRIPTION:Programmation Soirs Bleus \nSur scène sont réunis 3 corps de femmes et 6 cordes de coton. \nSuspendues à une grande coupole ronde\, elles évoluent\, ensemble\, communicant par ce langage commun qu’articulent leurs corps aériens. \nCie L’Encordée \nTout public \nDurée : 45 min \nDécouvrez ici le programme complet du Week-end Culturel
URL:https://saintyrieixsurcharente.fr/agenda/les-baudrieres/
LOCATION:Mairie de Saint-Yrieix sur Charente\, 19 avenue de l'Union\, SAINT-YRIEIX SUR CHARENTE
CATEGORIES:Culture,Manifestations,Spectacle
ATTACH;FMTTYPE=image/jpeg:https://saintyrieixsurcharente.fr/wp-content/uploads/2024/08/Les-Baudrieres-Credit-_Yoan-Boselli_.1-1-scaled.jpg
END:VEVENT
BEGIN:VEVENT
DTSTART;TZID=Europe/Paris:20240914T203000
DTEND;TZID=Europe/Paris:20240914T213000
DTSTAMP:20260421T175202
CREATED:20240802T080225Z
LAST-MODIFIED:20240802T150319Z
UID:13800-1726345800-1726349400@saintyrieixsurcharente.fr
SUMMARY:Wet Side Story
DESCRIPTION:Spectacle d’art de la rue proposé dans le cadre du Week-end Culturel \nWet Side Story\, une création de la Compagnie Mechanic est une comédie musicale et circassienne qui met l’intimité de la salle de bain\, à nu et dans la rue ! \nUne traversée cool\, mouillée où chacun\, amateur de douche rapide à l’italienne ou de bain prolongé\, se reconnaît forcément. \nCie Mechanic \nTout public \nDurée : 45 min \nDécouvrez ici le programme complet du Week-end Culturel
URL:https://saintyrieixsurcharente.fr/agenda/wet-side-story/
LOCATION:Mairie de Saint-Yrieix sur Charente\, 19 avenue de l'Union\, SAINT-YRIEIX SUR CHARENTE
CATEGORIES:Culture,Manifestations,Spectacle
ATTACH;FMTTYPE=image/jpeg:https://saintyrieixsurcharente.fr/wp-content/uploads/2024/08/wet-side-story.jpg
END:VEVENT
BEGIN:VEVENT
DTSTART;TZID=Europe/Paris:20240917T160000
DTEND;TZID=Europe/Paris:20240917T170000
DTSTAMP:20260421T175202
CREATED:20240802T081411Z
LAST-MODIFIED:20240802T150342Z
UID:13814-1726588800-1726592400@saintyrieixsurcharente.fr
SUMMARY:Mort ou vif
DESCRIPTION:Spectacle de clowns acrobates proposé dans le cadre du Week-end Culturel \nSous le reflet d’une faux luisante\, ils sont cinq\, égarés entre la vie et la mort. \nRegards obliques fixant un nœud coulant qui tente de rester à flot ; grincements d’un fauteuil à bascule ; gorges sèches… \nQui sera le prochain ? \nAnimé par une batterie puissante\, vestige d’un soundsystem poussiéreux où les guitares chuintent. \nIci\, un cirque fringant distille son ambiance. \nCie Silembloc \nTout public \nDurée : 1 heure \nDécouvrez ici le programme complet du Week-end Culturel
URL:https://saintyrieixsurcharente.fr/agenda/mort-ou-vif/
LOCATION:Place des Rochers\, Pl. des Rochers\, Saint-Yrieix-sur-Charente\, 16710\, France
CATEGORIES:Culture,Manifestations,Spectacle
ATTACH;FMTTYPE=image/jpeg:https://saintyrieixsurcharente.fr/wp-content/uploads/2024/08/Mort-ou-vif-scaled.jpg
END:VEVENT
BEGIN:VEVENT
DTSTART;TZID=Europe/Paris:20240928T170000
DTEND;TZID=Europe/Paris:20240928T223000
DTSTAMP:20260421T175202
CREATED:20240829T135000Z
LAST-MODIFIED:20240919T143436Z
UID:13985-1727542800-1727562600@saintyrieixsurcharente.fr
SUMMARY:URBAN's
DESCRIPTION:17h à 18h : Atelier de la danse Katia Seguin : démonstration Hip-Hop avec Elisa\, Alexis et Katia (dans la salle)\n\nTout au long de l’après-midi \, réalisation artistique d’un grapheur sur un panneau qui sera installé devant la scène pour le concert \n\n18h à 19h30 : Battle Break Dance (dans la salle)\n\nLa compétition sera sous forme de 2 contre 2\, avec des danseurs venant de toute la région voir plus (Bordeaux\, Rochefort\, Cognac\, Angoulême etc…). \nIls s’affronteront grâce à la musique proposée par le DJ\, Gogzz de Bordeaux\, autour de cette discipline mêlant art\, sport et acrobaties \nLa soirée sera donc animée par Melting Hope et par Calvin\, speaker dans de nombreux évènements sur Angoulême ! \n\n19h30 à 20h30 : pique-nique tiré du panier\, présence de foodtrucks et buvette\n\n  \n\n20h30 : concert de  Lhomé\, rappeur-slameur \, en extérieur (dans la salle si pluie) : https://www.latelierdupelican.com/lhom%C3%A9  Programmation Soirs Bleus\n\n  \nEntrée gratuite pour toute la manifestation \nManifestation est organisée conjointement par la mairie et le Centre Social Culturel et Sportif Amicale Laïque.
URL:https://saintyrieixsurcharente.fr/agenda/urbans/
LOCATION:Salle de la Combe\, 152 Rue Jean et Constant Priolaud\, Saint-Yrieix-sur-Charente\, 16710
CATEGORIES:Concerts,Culture,Manifestations,Spectacle
ATTACH;FMTTYPE=image/png:https://saintyrieixsurcharente.fr/wp-content/uploads/2024/08/SAMEDI-28-SEPTEMBRE-20241.png
END:VEVENT
END:VCALENDAR