BEGIN:VCALENDAR
VERSION:2.0
PRODID:-//Saint-Yrieix-sur-Charente - ECPv6.3.6//NONSGML v1.0//EN
CALSCALE:GREGORIAN
METHOD:PUBLISH
X-ORIGINAL-URL:https://saintyrieixsurcharente.fr
X-WR-CALDESC:évènements pour Saint-Yrieix-sur-Charente
REFRESH-INTERVAL;VALUE=DURATION:PT1H
X-Robots-Tag:noindex
X-PUBLISHED-TTL:PT1H
BEGIN:VTIMEZONE
TZID:Europe/Paris
BEGIN:DAYLIGHT
TZOFFSETFROM:+0100
TZOFFSETTO:+0200
TZNAME:CEST
DTSTART:20230326T010000
END:DAYLIGHT
BEGIN:STANDARD
TZOFFSETFROM:+0200
TZOFFSETTO:+0100
TZNAME:CET
DTSTART:20231029T010000
END:STANDARD
END:VTIMEZONE
BEGIN:VEVENT
DTSTART;TZID=Europe/Paris:20230915T183000
DTEND;TZID=Europe/Paris:20230917T173000
DTSTAMP:20260422T130443
CREATED:20230804T155703Z
LAST-MODIFIED:20230804T160138Z
UID:10551-1694802600-1694971800@saintyrieixsurcharente.fr
SUMMARY:Week-end culturel
DESCRIPTION:Tout un week-end de concerts et de spectacles à Saint-Yrieix sur Charente les 15\, 16 et 17 septembre 2023. \nRetrouvez ici le programme complet.
URL:https://saintyrieixsurcharente.fr/agenda/week-end-culturel-2/
CATEGORIES:Concerts,Culture,Manifestations
ATTACH;FMTTYPE=image/png:https://saintyrieixsurcharente.fr/wp-content/uploads/2023/08/Week-end-culturel-agenda-site-internet.png
END:VEVENT
END:VCALENDAR