BEGIN:VCALENDAR
VERSION:2.0
PRODID:-//Saint-Yrieix-sur-Charente - ECPv6.3.6//NONSGML v1.0//EN
CALSCALE:GREGORIAN
METHOD:PUBLISH
X-ORIGINAL-URL:https://saintyrieixsurcharente.fr
X-WR-CALDESC:évènements pour Saint-Yrieix-sur-Charente
REFRESH-INTERVAL;VALUE=DURATION:PT1H
X-Robots-Tag:noindex
X-PUBLISHED-TTL:PT1H
BEGIN:VTIMEZONE
TZID:Europe/Paris
BEGIN:DAYLIGHT
TZOFFSETFROM:+0100
TZOFFSETTO:+0200
TZNAME:CEST
DTSTART:20230326T010000
END:DAYLIGHT
BEGIN:STANDARD
TZOFFSETFROM:+0200
TZOFFSETTO:+0100
TZNAME:CET
DTSTART:20231029T010000
END:STANDARD
END:VTIMEZONE
BEGIN:VEVENT
DTSTART;VALUE=DATE:20231003
DTEND;VALUE=DATE:20231022
DTSTAMP:20260422T113337
CREATED:20230912T130224Z
LAST-MODIFIED:20230913T143541Z
UID:10815-1696291200-1697932799@saintyrieixsurcharente.fr
SUMMARY:Exposition_ AdN de Jordane Cachot
DESCRIPTION:La médiathèque met à l’honneur un jeune artiste arédien\, Jordane Cachot.\nL’exposition AdN sera visible aux horaires d’ouverture de la médiathèque.\n\nL’artiste vous propose également de pousser l’expérience sensorielle en venant profiter le samedi 14 octobre\, de 11h00 à 12h30 de performances musicales qui viendront apporter une nouvelle dimension aux œuvres peintes.\n\n« L’image et le son sont complémentaires !\nTableaux\, musiques\, illustrations… mes créations\, visuelles ou sonores sont en réalité les deux faces d’une même pièce. J’ai toujours perçu la création comme une sorte de quête personnelle\, une science\, un travail très minutieux qu’il est maintenant possible de partager.\nCette exposition mettra en scène cette alchimie\, cette complémentarité entre ce que le public peut voir et entendre. Il s’agit d’une immersion dans un univers futuriste\, technologique et philosophique.\nAdN est le nom que j’ai donné à cette quête. Jordane Cachot »
URL:https://saintyrieixsurcharente.fr/agenda/exposition_-adn-de-jordane-cachot/
LOCATION:Médiathèque\, 19 bis avenue de l'Union\, SAINT-YRIEIX SUR CHARENTE\, 16710
CATEGORIES:Culture,Manifestations
ATTACH;FMTTYPE=image/png:https://saintyrieixsurcharente.fr/wp-content/uploads/2023/09/vignette-agenda-site-sty.png
END:VEVENT
END:VCALENDAR