BEGIN:VCALENDAR
VERSION:2.0
PRODID:-//Saint-Yrieix-sur-Charente - ECPv6.3.6//NONSGML v1.0//EN
CALSCALE:GREGORIAN
METHOD:PUBLISH
X-ORIGINAL-URL:https://saintyrieixsurcharente.fr
X-WR-CALDESC:évènements pour Saint-Yrieix-sur-Charente
REFRESH-INTERVAL;VALUE=DURATION:PT1H
X-Robots-Tag:noindex
X-PUBLISHED-TTL:PT1H
BEGIN:VTIMEZONE
TZID:Europe/Paris
BEGIN:DAYLIGHT
TZOFFSETFROM:+0100
TZOFFSETTO:+0200
TZNAME:CEST
DTSTART:20240331T010000
END:DAYLIGHT
BEGIN:STANDARD
TZOFFSETFROM:+0200
TZOFFSETTO:+0100
TZNAME:CET
DTSTART:20241027T010000
END:STANDARD
END:VTIMEZONE
BEGIN:VEVENT
DTSTART;TZID=Europe/Paris:20240323T100000
DTEND;TZID=Europe/Paris:20240323T123000
DTSTAMP:20260422T040151
CREATED:20240220T104714Z
LAST-MODIFIED:20240220T104728Z
UID:12374-1711188000-1711197000@saintyrieixsurcharente.fr
SUMMARY:Carnaval
DESCRIPTION:Rendez-vous à 10h l’Esplanade\, le thème de cette année : le cinéma. \nNous vous attendons nombreux avec votre plus beau déguisement !
URL:https://saintyrieixsurcharente.fr/agenda/carnaval-2/
LOCATION:L’Esplanade\, 19 bis avenue de l'Union\, SAINT-YRIEIX SUR CHARENTE\, 16710
CATEGORIES:Manifestations
ATTACH;FMTTYPE=image/jpeg:https://saintyrieixsurcharente.fr/wp-content/uploads/2024/02/Carnaval.jpg
END:VEVENT
END:VCALENDAR