BEGIN:VCALENDAR
VERSION:2.0
PRODID:-//Saint-Yrieix-sur-Charente - ECPv6.3.6//NONSGML v1.0//EN
CALSCALE:GREGORIAN
METHOD:PUBLISH
X-WR-CALNAME:Saint-Yrieix-sur-Charente
X-ORIGINAL-URL:https://saintyrieixsurcharente.fr
X-WR-CALDESC:évènements pour Saint-Yrieix-sur-Charente
REFRESH-INTERVAL;VALUE=DURATION:PT1H
X-Robots-Tag:noindex
X-PUBLISHED-TTL:PT1H
BEGIN:VTIMEZONE
TZID:Europe/Paris
BEGIN:DAYLIGHT
TZOFFSETFROM:+0100
TZOFFSETTO:+0200
TZNAME:CEST
DTSTART:20240331T010000
END:DAYLIGHT
BEGIN:STANDARD
TZOFFSETFROM:+0200
TZOFFSETTO:+0100
TZNAME:CET
DTSTART:20241027T010000
END:STANDARD
END:VTIMEZONE
BEGIN:VEVENT
DTSTART;TZID=Europe/Paris:20240505T093000
DTEND;TZID=Europe/Paris:20240505T120000
DTSTAMP:20260422T023744
CREATED:20240408T133126Z
LAST-MODIFIED:20240408T133126Z
UID:12798-1714901400-1714910400@saintyrieixsurcharente.fr
SUMMARY:Matinée de ramassage des déchets
DESCRIPTION:Le Conseil Municipal des enfants de Saint-Yrieix sur Charente vous invite à une matinée de ramassage des déchets le dimanche 5 mai 2024.\nRendez-vous à 9h30 sur le parking des écoles à Vénat (rue de l’Ancienne Mairie).\nCollecte de 10h à 12h\, suivie d’un temps convivial dans la cour de l’école.\nIl vous attendent nombreux !
URL:https://saintyrieixsurcharente.fr/agenda/matinee-de-ramassage-des-dechets/
LOCATION:Groupe scolaire de Vénat\, rue de l'ancienne mairie\, 16710
CATEGORIES:Développement durable,Manifestations
ATTACH;FMTTYPE=image/png:https://saintyrieixsurcharente.fr/wp-content/uploads/2024/04/Matinee-de-ramassage-des-dechets-5-mai-2024-evenement-site-internet.png
END:VEVENT
END:VCALENDAR