BEGIN:VCALENDAR
VERSION:2.0
PRODID:-//Saint-Yrieix-sur-Charente - ECPv6.3.6//NONSGML v1.0//EN
CALSCALE:GREGORIAN
METHOD:PUBLISH
X-ORIGINAL-URL:https://saintyrieixsurcharente.fr
X-WR-CALDESC:évènements pour Saint-Yrieix-sur-Charente
REFRESH-INTERVAL;VALUE=DURATION:PT1H
X-Robots-Tag:noindex
X-PUBLISHED-TTL:PT1H
BEGIN:VTIMEZONE
TZID:Europe/Paris
BEGIN:DAYLIGHT
TZOFFSETFROM:+0100
TZOFFSETTO:+0200
TZNAME:CEST
DTSTART:20240331T010000
END:DAYLIGHT
BEGIN:STANDARD
TZOFFSETFROM:+0200
TZOFFSETTO:+0100
TZNAME:CET
DTSTART:20241027T010000
END:STANDARD
END:VTIMEZONE
BEGIN:VEVENT
DTSTART;TZID=Europe/Paris:20240608T090000
DTEND;TZID=Europe/Paris:20240608T130000
DTSTAMP:20260421T234509
CREATED:20240521T100022Z
LAST-MODIFIED:20240521T100022Z
UID:13054-1717837200-1717851600@saintyrieixsurcharente.fr
SUMMARY:Le marché fête... le sport !
DESCRIPTION:Rendez-vous le samedi 8 juin sur la place des Rochers pour votre marché fête… le sport !– Nombreux exposants– Animations : vélo smoothie et parcours sportifs
URL:https://saintyrieixsurcharente.fr/agenda/le-marche-fete-le-sport/
LOCATION:Place des Rochers\, Pl. des Rochers\, Saint-Yrieix-sur-Charente\, 16710\, France
CATEGORIES:Manifestations,Sport
ATTACH;FMTTYPE=image/png:https://saintyrieixsurcharente.fr/wp-content/uploads/2024/05/Marche-sport.png
END:VEVENT
END:VCALENDAR