BEGIN:VCALENDAR
VERSION:2.0
PRODID:-//Saint-Yrieix-sur-Charente - ECPv6.3.6//NONSGML v1.0//EN
CALSCALE:GREGORIAN
METHOD:PUBLISH
X-WR-CALNAME:Saint-Yrieix-sur-Charente
X-ORIGINAL-URL:https://saintyrieixsurcharente.fr
X-WR-CALDESC:évènements pour Saint-Yrieix-sur-Charente
REFRESH-INTERVAL;VALUE=DURATION:PT1H
X-Robots-Tag:noindex
X-PUBLISHED-TTL:PT1H
BEGIN:VTIMEZONE
TZID:Europe/Paris
BEGIN:DAYLIGHT
TZOFFSETFROM:+0100
TZOFFSETTO:+0200
TZNAME:CEST
DTSTART:20240331T010000
END:DAYLIGHT
BEGIN:STANDARD
TZOFFSETFROM:+0200
TZOFFSETTO:+0100
TZNAME:CET
DTSTART:20241027T010000
END:STANDARD
END:VTIMEZONE
BEGIN:VEVENT
DTSTART;TZID=Europe/Paris:20240614T193000
DTEND;TZID=Europe/Paris:20240614T233000
DTSTAMP:20260421T234240
CREATED:20240516T082822Z
LAST-MODIFIED:20240614T093447Z
UID:10756-1718393400-1718407800@saintyrieixsurcharente.fr
SUMMARY:Fête de la musique
DESCRIPTION:Venez fêter la musique à Saint-Yrieix !\nRendez-vous le 14 juin à partir de 19h30 à la salle des fêtes de La Combe\, 152 rue Jean et Constant Priolaud.\nBuvette et restauration sur place. \nDécouvrez ici le programme \nManifestation organisée en collaboration avec le Centre Social Culturel et Sportif Amicale Laïque
URL:https://saintyrieixsurcharente.fr/agenda/fete-de-la-musique-2/
LOCATION:L’Esplanade\, 19 bis avenue de l'Union\, SAINT-YRIEIX SUR CHARENTE\, 16710
CATEGORIES:Concerts,Culture,Manifestations
ATTACH;FMTTYPE=image/png:https://saintyrieixsurcharente.fr/wp-content/uploads/2023/05/Fete-de-la-Musique-visuel-site-internet.png
END:VEVENT
END:VCALENDAR