BEGIN:VCALENDAR
VERSION:2.0
PRODID:-//Saint-Yrieix-sur-Charente - ECPv6.3.6//NONSGML v1.0//EN
CALSCALE:GREGORIAN
METHOD:PUBLISH
X-ORIGINAL-URL:https://saintyrieixsurcharente.fr
X-WR-CALDESC:évènements pour Saint-Yrieix-sur-Charente
REFRESH-INTERVAL;VALUE=DURATION:PT1H
X-Robots-Tag:noindex
X-PUBLISHED-TTL:PT1H
BEGIN:VTIMEZONE
TZID:Europe/Paris
BEGIN:DAYLIGHT
TZOFFSETFROM:+0100
TZOFFSETTO:+0200
TZNAME:CEST
DTSTART:20230326T010000
END:DAYLIGHT
BEGIN:STANDARD
TZOFFSETFROM:+0200
TZOFFSETTO:+0100
TZNAME:CET
DTSTART:20231029T010000
END:STANDARD
END:VTIMEZONE
BEGIN:VEVENT
DTSTART;TZID=Europe/Paris:20231209T090000
DTEND;TZID=Europe/Paris:20231209T180000
DTSTAMP:20260421T134021
CREATED:20231010T140434Z
LAST-MODIFIED:20231010T140434Z
UID:11105-1702112400-1702144800@saintyrieixsurcharente.fr
SUMMARY:Marché de Noël
DESCRIPTION:Nous vous donnons rendez-vous le samedi 9 décembre à notre Marché de Noël [créateurs et gastronomie] \n\nAnimation musicale\nPhotos avec le Père Noël\nPromenades gratuites en calèche\nBuvette et restauration sur place
URL:https://saintyrieixsurcharente.fr/agenda/marche-de-noel-2/
LOCATION:L’Esplanade\, 19 bis avenue de l'Union\, SAINT-YRIEIX SUR CHARENTE\, 16710
CATEGORIES:Manifestations,marchés
ATTACH;FMTTYPE=image/png:https://saintyrieixsurcharente.fr/wp-content/uploads/2023/10/Marche-de-Noel-actu-site-internet.png
END:VEVENT
BEGIN:VEVENT
DTSTART;TZID=Europe/Paris:20231209T100000
DTEND;TZID=Europe/Paris:20231209T170000
DTSTAMP:20260421T134021
CREATED:20231206T082718Z
LAST-MODIFIED:20231206T082718Z
UID:11692-1702116000-1702141200@saintyrieixsurcharente.fr
SUMMARY:La caravane magique
DESCRIPTION:Pendant le marché de Noël de Saint-Yrieix venez profiter du spectacle de lumière noire de la Cie A Deux Mains \nFéérie de la lumière noire et mystère de la magie réunis dans un spectacle intimiste et étincelant. \nLe public entre dans ce petit théâtre insolite et le voyage commence.\nMagie et lumière noire nous emmènent au bout de nos rêves.\nUn moment privilégié et interactif\, dans un lieu intimiste et original\,\nTout public à partir de 3 ans. \nSéances : 10h\, 11h\, 14h\, 15h\, 16h\, 17h (jauge limitée par séance) \nRéservation nécessaire au 06 07 14 23 84
URL:https://saintyrieixsurcharente.fr/agenda/la-caravane-magique/
LOCATION:Mairie de Saint-Yrieix sur Charente\, 19 avenue de l'Union\, SAINT-YRIEIX SUR CHARENTE
CATEGORIES:Culture,marchés
ATTACH;FMTTYPE=image/jpeg:https://saintyrieixsurcharente.fr/wp-content/uploads/2023/12/LCM-1-002-scaled.jpg
END:VEVENT
END:VCALENDAR