BEGIN:VCALENDAR
VERSION:2.0
PRODID:-//Saint-Yrieix-sur-Charente - ECPv6.3.6//NONSGML v1.0//EN
CALSCALE:GREGORIAN
METHOD:PUBLISH
X-WR-CALNAME:Saint-Yrieix-sur-Charente
X-ORIGINAL-URL:https://saintyrieixsurcharente.fr
X-WR-CALDESC:évènements pour Saint-Yrieix-sur-Charente
REFRESH-INTERVAL;VALUE=DURATION:PT1H
X-Robots-Tag:noindex
X-PUBLISHED-TTL:PT1H
BEGIN:VTIMEZONE
TZID:Europe/Paris
BEGIN:DAYLIGHT
TZOFFSETFROM:+0100
TZOFFSETTO:+0200
TZNAME:CEST
DTSTART:20220327T010000
END:DAYLIGHT
BEGIN:STANDARD
TZOFFSETFROM:+0200
TZOFFSETTO:+0100
TZNAME:CET
DTSTART:20221030T010000
END:STANDARD
END:VTIMEZONE
BEGIN:VEVENT
DTSTART;TZID=Europe/Paris:20220924T080000
DTEND;TZID=Europe/Paris:20220924T190000
DTSTAMP:20260422T125327
CREATED:20220828T171944Z
LAST-MODIFIED:20220912T130657Z
UID:4216-1664006400-1664046000@saintyrieixsurcharente.fr
SUMMARY:Marché artisanal
DESCRIPTION:Marché artisanal : de 8h à 19h place des Rochers.
URL:https://saintyrieixsurcharente.fr/agenda/marche-artisanal/
LOCATION:Place des Rochers\, Pl. des Rochers\, Saint-Yrieix-sur-Charente\, 16710\, France
CATEGORIES:marchés
ATTACH;FMTTYPE=image/jpeg:https://saintyrieixsurcharente.fr/wp-content/uploads/2022/08/Saint-Yrieix-Charente_marche_artisanal_2022_affiche.jpg
END:VEVENT
END:VCALENDAR