BEGIN:VCALENDAR
VERSION:2.0
PRODID:-//Saint-Yrieix-sur-Charente - ECPv6.3.6//NONSGML v1.0//EN
CALSCALE:GREGORIAN
METHOD:PUBLISH
X-WR-CALNAME:Saint-Yrieix-sur-Charente
X-ORIGINAL-URL:https://saintyrieixsurcharente.fr
X-WR-CALDESC:évènements pour Saint-Yrieix-sur-Charente
REFRESH-INTERVAL;VALUE=DURATION:PT1H
X-Robots-Tag:noindex
X-PUBLISHED-TTL:PT1H
BEGIN:VTIMEZONE
TZID:Europe/Paris
BEGIN:DAYLIGHT
TZOFFSETFROM:+0100
TZOFFSETTO:+0200
TZNAME:CEST
DTSTART:20220327T010000
END:DAYLIGHT
BEGIN:STANDARD
TZOFFSETFROM:+0200
TZOFFSETTO:+0100
TZNAME:CET
DTSTART:20221030T010000
END:STANDARD
END:VTIMEZONE
BEGIN:VEVENT
DTSTART;TZID=Europe/Paris:20221210T100000
DTEND;TZID=Europe/Paris:20221210T180000
DTSTAMP:20260422T082444
CREATED:20221012T101055Z
LAST-MODIFIED:20221208T144422Z
UID:7067-1670666400-1670695200@saintyrieixsurcharente.fr
SUMMARY:Marché de Noël
DESCRIPTION:Nous vous donnons rendez-vous le samedi 10 décembre à notre Marché de Noël [créateurs et gastronomie] \nRetrouvez ici ↓ le programme complet des animations \nProgramme marché de Noël 2022 \n 
URL:https://saintyrieixsurcharente.fr/agenda/marche-de-noel/
LOCATION:Place des Rochers\, Pl. des Rochers\, Saint-Yrieix-sur-Charente\, 16710\, France
CATEGORIES:marchés
ATTACH;FMTTYPE=image/png:https://saintyrieixsurcharente.fr/wp-content/uploads/2022/10/Affiche-marche-de-Noel-derniere-de-couv.png
END:VEVENT
END:VCALENDAR