BEGIN:VCALENDAR
VERSION:2.0
PRODID:-//Saint-Yrieix-sur-Charente - ECPv6.3.6//NONSGML v1.0//EN
CALSCALE:GREGORIAN
METHOD:PUBLISH
X-WR-CALNAME:Saint-Yrieix-sur-Charente
X-ORIGINAL-URL:https://saintyrieixsurcharente.fr
X-WR-CALDESC:évènements pour Saint-Yrieix-sur-Charente
REFRESH-INTERVAL;VALUE=DURATION:PT1H
X-Robots-Tag:noindex
X-PUBLISHED-TTL:PT1H
BEGIN:VTIMEZONE
TZID:Europe/Paris
BEGIN:DAYLIGHT
TZOFFSETFROM:+0100
TZOFFSETTO:+0200
TZNAME:CEST
DTSTART:20240331T010000
END:DAYLIGHT
BEGIN:STANDARD
TZOFFSETFROM:+0200
TZOFFSETTO:+0100
TZNAME:CET
DTSTART:20241027T010000
END:STANDARD
END:VTIMEZONE
BEGIN:VEVENT
DTSTART;TZID=Europe/Paris:20240413T090000
DTEND;TZID=Europe/Paris:20240413T130000
DTSTAMP:20260419T173158
CREATED:20240315T084050Z
LAST-MODIFIED:20240315T084112Z
UID:12567-1712998800-1713013200@saintyrieixsurcharente.fr
SUMMARY:Marché de printemps
DESCRIPTION:Rendez-vous le samedi 13 avril sur la place des Rochers pour votre marché fête… le Printemps ! \n\nAnimation musicale\nAccueil des nouveaux habitants\nVente de plantes par les enfants de l’école Claude Roy
URL:https://saintyrieixsurcharente.fr/agenda/marche-de-printemps-2/
LOCATION:Place des Rochers\, Pl. des Rochers\, Saint-Yrieix-sur-Charente\, 16710\, France
CATEGORIES:Manifestations,marchés
ATTACH;FMTTYPE=image/png:https://saintyrieixsurcharente.fr/wp-content/uploads/2024/03/Agenda-site-internet-2024.png
END:VEVENT
END:VCALENDAR