BEGIN:VCALENDAR
VERSION:2.0
PRODID:-//Saint-Yrieix-sur-Charente - ECPv6.3.6//NONSGML v1.0//EN
CALSCALE:GREGORIAN
METHOD:PUBLISH
X-WR-CALNAME:Saint-Yrieix-sur-Charente
X-ORIGINAL-URL:https://saintyrieixsurcharente.fr
X-WR-CALDESC:évènements pour Saint-Yrieix-sur-Charente
REFRESH-INTERVAL;VALUE=DURATION:PT1H
X-Robots-Tag:noindex
X-PUBLISHED-TTL:PT1H
BEGIN:VTIMEZONE
TZID:Europe/Paris
BEGIN:DAYLIGHT
TZOFFSETFROM:+0100
TZOFFSETTO:+0200
TZNAME:CEST
DTSTART:20240331T010000
END:DAYLIGHT
BEGIN:STANDARD
TZOFFSETFROM:+0200
TZOFFSETTO:+0100
TZNAME:CET
DTSTART:20241027T010000
END:STANDARD
END:VTIMEZONE
BEGIN:VEVENT
DTSTART;TZID=Europe/Paris:20241106T140000
DTEND;TZID=Europe/Paris:20241106T163000
DTSTAMP:20260422T060355
CREATED:20241014T141525Z
LAST-MODIFIED:20241028T132053Z
UID:14439-1730901600-1730910600@saintyrieixsurcharente.fr
SUMMARY:Ateliers sécurité routière pour les seniors
DESCRIPTION:La commune de Saint-Yrieix\, en collaboration avec la Police Municipale\, la Préfecture de la Charente\, la Sécurité Routière et Écouter Voir propose des Ateliers sécurité routière pour les seniors. \nCes ateliers ont lieu en 2 parties : \n– 1ère partie : le mercredi 06 novembre\, de 14h à 16h30 à la Mairie – salle du conseil municipal : \nRéactualisation du code de la route (les giratoires\, le radar de feux\, l’insertion…) \n– 2ème partie : le mercredi 13 novembre\, de 9h30 à 16h30 – Salle des fêtes de La Combe : \nNombreux ateliers : temps de conduite accompagné dans votre véhicule\, le code de la route\, le temps de réaction\, l’alcool\, contrôle de la vue et de l’audition. \nInscription auprès de la mairie : 05 45 38 69 50. \nL’inscription est valable pour les 2 sessions. \nDécouvrez ici le programme complet \n  \n  \n 
URL:https://saintyrieixsurcharente.fr/agenda/ateliers-securite-routiere-pour-les-seniors-3/
LOCATION:Mairie de Saint-Yrieix sur Charente\, 19 avenue de l'Union\, SAINT-YRIEIX SUR CHARENTE
CATEGORIES:Prévention
ATTACH;FMTTYPE=image/png:https://saintyrieixsurcharente.fr/wp-content/uploads/2024/10/Nombreux-ateliers1.png
END:VEVENT
BEGIN:VEVENT
DTSTART;TZID=Europe/Paris:20241112T100000
DTEND;TZID=Europe/Paris:20241115T170000
DTSTAMP:20260422T060355
CREATED:20241014T134155Z
LAST-MODIFIED:20241014T134555Z
UID:14432-1731405600-1731690000@saintyrieixsurcharente.fr
SUMMARY:Semaine seniors
DESCRIPTION:La Mairie de Saint-Yrieix sur Charente et son Centre Communal d’Action Sociale vous invitent à la 2ème édition de la SEMAINE SENIORS du 12 au 15 novembre 2024. \nDécouvrez ici le programme complet.
URL:https://saintyrieixsurcharente.fr/agenda/semaine-seniors-2/
LOCATION:Mairie de Saint-Yrieix sur Charente\, 19 avenue de l'Union\, SAINT-YRIEIX SUR CHARENTE
CATEGORIES:Manifestations,Prévention,Santé
ATTACH;FMTTYPE=image/png:https://saintyrieixsurcharente.fr/wp-content/uploads/2024/10/SEMAINE-SENIORS3.png
END:VEVENT
BEGIN:VEVENT
DTSTART;TZID=Europe/Paris:20241113T093000
DTEND;TZID=Europe/Paris:20241113T163000
DTSTAMP:20260422T060355
CREATED:20241014T141654Z
LAST-MODIFIED:20241028T132029Z
UID:14438-1731490200-1731515400@saintyrieixsurcharente.fr
SUMMARY:Ateliers sécurité routière pour les seniors
DESCRIPTION:La commune de Saint-Yrieix\, en collaboration avec la Police Municipale\, la Préfecture de la Charente\, la Sécurité Routière et Écouter Voir propose des Ateliers sécurité routière pour les seniors. \nCes ateliers ont lieu en 2 parties : \n– 1ère partie : le mercredi 06 novembre\, de 14h à 16h30 à la Mairie – salle du conseil municipal : \nRéactualisation du code de la route (les giratoires\, le radar de feux\, l’insertion…) \n– 2ème partie : le mercredi 13 novembre\, de 9h30 à 16h30 – Salle des fêtes de La Combe : \nNombreux ateliers : temps de conduite accompagné dans votre véhicule\, le code de la route\, le temps de réaction\, l’alcool\, contrôle de la vue et de l’audition. \nInscription auprès de la mairie : 05 45 38 69 50. \nL’inscription est valable pour les 2 sessions. \nDécouvrez ici le programme complet \n 
URL:https://saintyrieixsurcharente.fr/agenda/ateliers-securite-routiere-pour-les-seniors-4/
LOCATION:Salle de la Combe\, 152 Rue Jean et Constant Priolaud\, Saint-Yrieix-sur-Charente\, 16710
CATEGORIES:Prévention
ATTACH;FMTTYPE=image/png:https://saintyrieixsurcharente.fr/wp-content/uploads/2024/10/Nombreux-ateliers1.png
END:VEVENT
END:VCALENDAR