BEGIN:VCALENDAR
VERSION:2.0
PRODID:-//Saint-Yrieix-sur-Charente - ECPv6.3.6//NONSGML v1.0//EN
CALSCALE:GREGORIAN
METHOD:PUBLISH
X-ORIGINAL-URL:https://saintyrieixsurcharente.fr
X-WR-CALDESC:évènements pour Saint-Yrieix-sur-Charente
REFRESH-INTERVAL;VALUE=DURATION:PT1H
X-Robots-Tag:noindex
X-PUBLISHED-TTL:PT1H
BEGIN:VTIMEZONE
TZID:Europe/Paris
BEGIN:DAYLIGHT
TZOFFSETFROM:+0100
TZOFFSETTO:+0200
TZNAME:CEST
DTSTART:20250330T010000
END:DAYLIGHT
BEGIN:STANDARD
TZOFFSETFROM:+0200
TZOFFSETTO:+0100
TZNAME:CET
DTSTART:20251026T010000
END:STANDARD
END:VTIMEZONE
BEGIN:VEVENT
DTSTART;TZID=Europe/Paris:20250607T100000
DTEND;TZID=Europe/Paris:20250607T120000
DTSTAMP:20260421T192454
CREATED:20250528T114102Z
LAST-MODIFIED:20250528T114204Z
UID:16363-1749290400-1749297600@saintyrieixsurcharente.fr
SUMMARY:Formation aux gestes qui sauvent
DESCRIPTION:Gratuit et ouvert aux habitants de Saint-Yrieix !\nDans le cadre de son engagement pour la prévention et la sécurité\, la municipalité de Saint-Yrieix-sur-Charente propose depuis 4 ans des formations gratuites aux gestes de premiers secours.\nVenez vous initier en famille ou entre amis aux gestes qui peuvent sauver des vies !\nSamedi 7 juin\nSalle Jean Ferrat – Esplanade de Saint-Yrieix\nDe 10h à 12h\n\n\nInscription dès maintenant par mail à contact@saintyrieix-16.fr ou par téléphone au 05 45 38 69 50\nConditions : avoir plus de 12 ans et résider à Saint-Yrieix-sur-Charente.
URL:https://saintyrieixsurcharente.fr/agenda/%f0%9d%90%85%f0%9d%90%a8%f0%9d%90%ab%f0%9d%90%a6%f0%9d%90%9a%f0%9d%90%ad%f0%9d%90%a2%f0%9d%90%a8%f0%9d%90%a7%f0%9d%90%ac-%f0%9d%90%9a%f0%9d%90%ae%f0%9d%90%b1-%f0%9d%90%86%f0%9d%90%9e%f0%9d%90%ac/
LOCATION:L’Esplanade\, 19 bis avenue de l'Union\, SAINT-YRIEIX SUR CHARENTE\, 16710
CATEGORIES:Prévention,Santé
ATTACH;FMTTYPE=image/png:https://saintyrieixsurcharente.fr/wp-content/uploads/2025/05/Affiche-gestes-qui-sauvent.png
END:VEVENT
END:VCALENDAR