BEGIN:VCALENDAR
VERSION:2.0
PRODID:-//Saint-Yrieix-sur-Charente - ECPv6.3.6//NONSGML v1.0//EN
CALSCALE:GREGORIAN
METHOD:PUBLISH
X-WR-CALNAME:Saint-Yrieix-sur-Charente
X-ORIGINAL-URL:https://saintyrieixsurcharente.fr
X-WR-CALDESC:évènements pour Saint-Yrieix-sur-Charente
REFRESH-INTERVAL;VALUE=DURATION:PT1H
X-Robots-Tag:noindex
X-PUBLISHED-TTL:PT1H
BEGIN:VTIMEZONE
TZID:Europe/Paris
BEGIN:DAYLIGHT
TZOFFSETFROM:+0100
TZOFFSETTO:+0200
TZNAME:CEST
DTSTART:20250330T010000
END:DAYLIGHT
BEGIN:STANDARD
TZOFFSETFROM:+0200
TZOFFSETTO:+0100
TZNAME:CET
DTSTART:20251026T010000
END:STANDARD
END:VTIMEZONE
BEGIN:VEVENT
DTSTART;TZID=Europe/Paris:20250425T143000
DTEND;TZID=Europe/Paris:20250425T170000
DTSTAMP:20260422T001508
CREATED:20250415T095338Z
LAST-MODIFIED:20250417T092224Z
UID:16048-1745591400-1745600400@saintyrieixsurcharente.fr
SUMMARY:Sensibilisation au rattrapage vaccinal
DESCRIPTION:Dans le cadre de la Semaine européenne de la vaccination qui aura lieu du 27 avril au 3 mai\, la CPTS Pays d’Angoulême (Communauté Professionnelle de Santé Territoriale) organise un après-midi de sensibilisation au rattrapage vaccinal le vendredi 25 avril de 14h30 à 17h à l’Esplanade. \nDes professionnels de santé vous recevrons pour faire le point sur l’ensemble de vos vaccinations obligatoires. Vous serez ensuite orienté vers des professionnels de santé qui pourront vous vacciner.  \nN’oubliez pas d’emmener votre carnet de vaccination ! 
URL:https://saintyrieixsurcharente.fr/agenda/sensibilisation-au-rattrapage-vaccinal/
LOCATION:L’Esplanade\, 19 bis avenue de l'Union\, SAINT-YRIEIX SUR CHARENTE\, 16710
CATEGORIES:Prévention,Santé
ATTACH;FMTTYPE=image/png:https://saintyrieixsurcharente.fr/wp-content/uploads/2025/04/Vaccination.png
END:VEVENT
END:VCALENDAR