BEGIN:VCALENDAR
VERSION:2.0
PRODID:-//Saint-Yrieix-sur-Charente - ECPv6.3.6//NONSGML v1.0//EN
CALSCALE:GREGORIAN
METHOD:PUBLISH
X-WR-CALNAME:Saint-Yrieix-sur-Charente
X-ORIGINAL-URL:https://saintyrieixsurcharente.fr
X-WR-CALDESC:évènements pour Saint-Yrieix-sur-Charente
REFRESH-INTERVAL;VALUE=DURATION:PT1H
X-Robots-Tag:noindex
X-PUBLISHED-TTL:PT1H
BEGIN:VTIMEZONE
TZID:Europe/Paris
BEGIN:DAYLIGHT
TZOFFSETFROM:+0100
TZOFFSETTO:+0200
TZNAME:CEST
DTSTART:20250330T010000
END:DAYLIGHT
BEGIN:STANDARD
TZOFFSETFROM:+0200
TZOFFSETTO:+0100
TZNAME:CET
DTSTART:20251026T010000
END:STANDARD
END:VTIMEZONE
BEGIN:VEVENT
DTSTART;TZID=Europe/Paris:20250702T153000
DTEND;TZID=Europe/Paris:20250702T193000
DTSTAMP:20260421T192711
CREATED:20250623T145619Z
LAST-MODIFIED:20250623T145619Z
UID:16549-1751470200-1751484600@saintyrieixsurcharente.fr
SUMMARY:Don du sang
DESCRIPTION:Rendez-vous mercredi 2 juillet de 15h30 à 19h30 à la salle des fêtes de La Combe.\nPour prendre rendez-vous\, c’est par ici :  https://urls.fr/yoY7fL
URL:https://saintyrieixsurcharente.fr/agenda/don-du-sang/
LOCATION:Salle de la Combe\, 152 Rue Jean et Constant Priolaud\, Saint-Yrieix-sur-Charente\, 16710
CATEGORIES:Associations,Prévention,Santé
ATTACH;FMTTYPE=image/jpeg:https://saintyrieixsurcharente.fr/wp-content/uploads/2025/06/1080X1080_st-yrieix-sur-charente-005.jpg
END:VEVENT
END:VCALENDAR