BEGIN:VCALENDAR
VERSION:2.0
PRODID:-//Saint-Yrieix-sur-Charente - ECPv6.3.6//NONSGML v1.0//EN
CALSCALE:GREGORIAN
METHOD:PUBLISH
X-ORIGINAL-URL:https://saintyrieixsurcharente.fr
X-WR-CALDESC:évènements pour Saint-Yrieix-sur-Charente
REFRESH-INTERVAL;VALUE=DURATION:PT1H
X-Robots-Tag:noindex
X-PUBLISHED-TTL:PT1H
BEGIN:VTIMEZONE
TZID:Europe/Paris
BEGIN:DAYLIGHT
TZOFFSETFROM:+0100
TZOFFSETTO:+0200
TZNAME:CEST
DTSTART:20230326T010000
END:DAYLIGHT
BEGIN:STANDARD
TZOFFSETFROM:+0200
TZOFFSETTO:+0100
TZNAME:CET
DTSTART:20231029T010000
END:STANDARD
END:VTIMEZONE
BEGIN:VEVENT
DTSTART;TZID=Europe/Paris:20230930T203000
DTEND;TZID=Europe/Paris:20230930T213000
DTSTAMP:20260423T121123
CREATED:20230907T074518Z
LAST-MODIFIED:20230907T075041Z
UID:10781-1696105800-1696109400@saintyrieixsurcharente.fr
SUMMARY:Au fil du conte - spectacle
DESCRIPTION:PETITES HISTOIRES DE GRAND COURAGE\nMichèle Bouhet et Antoine Compagnon\n\nTout public //dès 6 ans\nDurée : 1h\nGratuit\nEntrée libre\n\nVoici le triomphe de l’audace raconté en histoires et en chansons. Même si les combats auxquels se livrent nos héros paraissent démesurés\, ils ne sont pas perdus pour autant. Grâce à leur rage de vivre\, nos personnages vont trouver le moyen de triompher en activant les leviers de l’imagination et de la solidarité. Michèle et Antoine offrent une ode joyeuse à la détermination.\nOuverture des portes à 20h00\n\nRetrouvez le programme complet du festival ici https://urlz.fr/nupT
URL:https://saintyrieixsurcharente.fr/agenda/au-fil-du-conte-spectacle/
LOCATION:Salle de la Combe\, 152 Rue Jean et Constant Priolaud\, Saint-Yrieix-sur-Charente\, 16710
CATEGORIES:Culture,Spectacle
ATTACH;FMTTYPE=image/jpeg:https://saintyrieixsurcharente.fr/wp-content/uploads/2023/09/afc-2023.jpg
END:VEVENT
END:VCALENDAR