BEGIN:VCALENDAR
VERSION:2.0
PRODID:-//Saint-Yrieix-sur-Charente - ECPv6.3.6//NONSGML v1.0//EN
CALSCALE:GREGORIAN
METHOD:PUBLISH
X-WR-CALNAME:Saint-Yrieix-sur-Charente
X-ORIGINAL-URL:https://saintyrieixsurcharente.fr
X-WR-CALDESC:évènements pour Saint-Yrieix-sur-Charente
REFRESH-INTERVAL;VALUE=DURATION:PT1H
X-Robots-Tag:noindex
X-PUBLISHED-TTL:PT1H
BEGIN:VTIMEZONE
TZID:Europe/Paris
BEGIN:DAYLIGHT
TZOFFSETFROM:+0100
TZOFFSETTO:+0200
TZNAME:CEST
DTSTART:20230326T010000
END:DAYLIGHT
BEGIN:STANDARD
TZOFFSETFROM:+0200
TZOFFSETTO:+0100
TZNAME:CET
DTSTART:20231029T010000
END:STANDARD
END:VTIMEZONE
BEGIN:VEVENT
DTSTART;TZID=Europe/Paris:20230310T181500
DTEND;TZID=Europe/Paris:20230310T220000
DTSTAMP:20260423T224245
CREATED:20230119T091017Z
LAST-MODIFIED:20230119T091017Z
UID:8254-1678472100-1678485600@saintyrieixsurcharente.fr
SUMMARY:Dernière soirée au coin du feu
DESCRIPTION:Elle est de retour la « Dernière soirée au coin du feu ».\nComme toujours la convivialité sera le seul mot d’ordre.\nAu programme : concert\, jeux collectifs\, repas tiré du panier (chacun apporte son repas\, ses assiettes et couverts)\, histoires en pyjamas\, karaoké… \n 
URL:https://saintyrieixsurcharente.fr/agenda/derniere-soiree-au-coin-du-feu/
LOCATION:L’Esplanade\, 19 bis avenue de l'Union\, SAINT-YRIEIX SUR CHARENTE\, 16710
CATEGORIES:Concerts,Culture,Spectacle
ATTACH;FMTTYPE=image/png:https://saintyrieixsurcharente.fr/wp-content/uploads/2023/01/derniere-soiree-coin-du-feu-2023.png
END:VEVENT
END:VCALENDAR