BEGIN:VCALENDAR
VERSION:2.0
PRODID:-//Saint-Yrieix-sur-Charente - ECPv6.3.6//NONSGML v1.0//EN
CALSCALE:GREGORIAN
METHOD:PUBLISH
X-WR-CALNAME:Saint-Yrieix-sur-Charente
X-ORIGINAL-URL:https://saintyrieixsurcharente.fr
X-WR-CALDESC:évènements pour Saint-Yrieix-sur-Charente
REFRESH-INTERVAL;VALUE=DURATION:PT1H
X-Robots-Tag:noindex
X-PUBLISHED-TTL:PT1H
BEGIN:VTIMEZONE
TZID:Europe/Paris
BEGIN:DAYLIGHT
TZOFFSETFROM:+0100
TZOFFSETTO:+0200
TZNAME:CEST
DTSTART:20230326T010000
END:DAYLIGHT
BEGIN:STANDARD
TZOFFSETFROM:+0200
TZOFFSETTO:+0100
TZNAME:CET
DTSTART:20231029T010000
END:STANDARD
END:VTIMEZONE
BEGIN:VEVENT
DTSTART;VALUE=DATE:20230510
DTEND;VALUE=DATE:20230611
DTSTAMP:20260423T182440
CREATED:20230510T090837Z
LAST-MODIFIED:20230510T090837Z
UID:9543-1683676800-1686441599@saintyrieixsurcharente.fr
SUMMARY:Exposition - 30 ans d'affiches de "Pause Théâtre"
DESCRIPTION:Après 30 ans d’écriture et de mise en scène\, Arlette et Jean-Marie Boutinot tirent le rideau de « Pause théâtre ».\n30 affiches\, des décors et costumes\, pour vous replonger dans l’histoire de cette troupe avant la représentation de sa dernière création\,\n« La Ultima » le 10 juin à la salle de la Combe.\nVisible aux horaires d’ouverture de la médiathèque https://bit.ly/3NJrGZm\n\nPour aller plus loin\, une rencontre  avec Jean-Marie Boutinot vous est proposé le mardi 23 mai à 18h30.  Il reviendra sur ces 30 dernières années d’écriture au service de l’association arédienne « Pause Théâtre ».\nhttps://www.facebook.com/events/782855649891083
URL:https://saintyrieixsurcharente.fr/agenda/exposition-30-ans-daffiches-de-pause-theatre/
LOCATION:Médiathèque\, 19 bis avenue de l'Union\, SAINT-YRIEIX SUR CHARENTE\, 16710
CATEGORIES:Culture,Spectacle
ATTACH;FMTTYPE=image/png:https://saintyrieixsurcharente.fr/wp-content/uploads/2023/05/affiche-expo-30-ans-pause-theatre-1.png
END:VEVENT
END:VCALENDAR