BEGIN:VCALENDAR
VERSION:2.0
PRODID:-//Saint-Yrieix-sur-Charente - ECPv6.3.6//NONSGML v1.0//EN
CALSCALE:GREGORIAN
METHOD:PUBLISH
X-WR-CALNAME:Saint-Yrieix-sur-Charente
X-ORIGINAL-URL:https://saintyrieixsurcharente.fr
X-WR-CALDESC:évènements pour Saint-Yrieix-sur-Charente
REFRESH-INTERVAL;VALUE=DURATION:PT1H
X-Robots-Tag:noindex
X-PUBLISHED-TTL:PT1H
BEGIN:VTIMEZONE
TZID:Europe/Paris
BEGIN:DAYLIGHT
TZOFFSETFROM:+0100
TZOFFSETTO:+0200
TZNAME:CEST
DTSTART:20240331T010000
END:DAYLIGHT
BEGIN:STANDARD
TZOFFSETFROM:+0200
TZOFFSETTO:+0100
TZNAME:CET
DTSTART:20241027T010000
END:STANDARD
END:VTIMEZONE
BEGIN:VEVENT
DTSTART;TZID=Europe/Paris:20240706T190000
DTEND;TZID=Europe/Paris:20240706T233000
DTSTAMP:20260422T225607
CREATED:20240624T082106Z
LAST-MODIFIED:20240626T095659Z
UID:13460-1720292400-1720308600@saintyrieixsurcharente.fr
SUMMARY:Soirée estivale
DESCRIPTION:🎤 𝟭𝟵𝗵 : 𝗖𝗼𝗻𝗰𝗲𝗿𝘁 « Les Improbab’s » \n📍Théâtre de verdure de l’Esplanade \n👉100% chansons françaises\, année 50\,60\,70 et chansons fantaisistes \n🍸 19h45 : Apéritif offert par la mairie et pique-nique tiré du panier (chacun apporte son pique-nique). \n🎭 𝟮𝟭𝗵 : 𝗦𝗽𝗲𝗰𝘁𝗮𝗰𝗹𝗲 « Lazari pour la vie » Cie Okazoo \n📍 Derrière la mairie \n👉 Lazari se présente: Il annonce :  » Aujourd’hui un Numéro Unique au monde\, peut-être même Unique en France ! La « Danseuse Etoile ! ». En équilibre sur une boule\, sur une table ! » \nLe spectacle commence\, mais peut-être avait-il déjà commencé ? \nCe personnage grotesque en culotte courte ne doute pas une seconde de lui-même. C’est bien le seul ! \nMalgré ses blagues vaseuses\, et avec la complicité du public\, il parvient à son objectif avec une certaine élégance. \nA l’honneur dans ce spectacle clownesque\, interactif et familial : de la magie\, de l’adresse\, de l’équilibre\, et surtout … beaucoup de dérision !!! \n📽 𝟮𝟮𝗵𝟭𝟱 : 𝗖𝗶𝗻𝗲́ 𝗽𝗹𝗲𝗶𝗻 𝗮𝗶𝗿 – Projection du film « Les Petites Victoires » de Mélanie AUFFRET \n📍 Parvis de la mairie \n👉Entre ses obligations de maire et son rôle d’institutrice au sein du petit village de Kerguen\, les journées d’Alice sont déjà bien remplies. L’arrivée dans sa classe d’Emile\, un sexagénaire au caractère explosif\, enfin décidé à apprendre à lire et à écrire\, va rendre son quotidien ingérable. Surtout qu’Alice\, qui n’avait rien vu venir\, va devoir aussi sauver son village et son école… \nhttps://www.allocine.fr/film/fichefilm_gen_cfilm=295765.html
URL:https://saintyrieixsurcharente.fr/agenda/soiree-estivale-2/
LOCATION:Mairie de Saint-Yrieix sur Charente\, 19 avenue de l'Union\, SAINT-YRIEIX SUR CHARENTE
CATEGORIES:Concerts,Spectacle
ATTACH;FMTTYPE=image/png:https://saintyrieixsurcharente.fr/wp-content/uploads/2024/06/Soiree-estivale-evenement-site-internet.png
END:VEVENT
END:VCALENDAR