BEGIN:VCALENDAR
VERSION:2.0
PRODID:-//Saint-Yrieix-sur-Charente - ECPv6.3.6//NONSGML v1.0//EN
CALSCALE:GREGORIAN
METHOD:PUBLISH
X-ORIGINAL-URL:https://saintyrieixsurcharente.fr
X-WR-CALDESC:évènements pour Saint-Yrieix-sur-Charente
REFRESH-INTERVAL;VALUE=DURATION:PT1H
X-Robots-Tag:noindex
X-PUBLISHED-TTL:PT1H
BEGIN:VTIMEZONE
TZID:Europe/Paris
BEGIN:DAYLIGHT
TZOFFSETFROM:+0100
TZOFFSETTO:+0200
TZNAME:CEST
DTSTART:20230326T010000
END:DAYLIGHT
BEGIN:STANDARD
TZOFFSETFROM:+0200
TZOFFSETTO:+0100
TZNAME:CET
DTSTART:20231029T010000
END:STANDARD
END:VTIMEZONE
BEGIN:VEVENT
DTSTART;TZID=Europe/Paris:20230923T093000
DTEND;TZID=Europe/Paris:20230923T123000
DTSTAMP:20260423T034954
CREATED:20230914T123609Z
LAST-MODIFIED:20230914T123609Z
UID:10851-1695461400-1695472200@saintyrieixsurcharente.fr
SUMMARY:À vous le sport !
DESCRIPTION:Dans le cadre du label Terre de Jeux 2024 la ville vous propose une matinée de découvertes et d’initiations sportives autour de la mairie et à l’Esplanade de 9h30 à 12h30 le samedi 23 septembre. \nRetrouvez ici le programme complet
URL:https://saintyrieixsurcharente.fr/agenda/a-vous-le-sport/
LOCATION:Mairie de Saint-Yrieix sur Charente\, 19 avenue de l'Union\, SAINT-YRIEIX SUR CHARENTE
CATEGORIES:Manifestations,Sport
ATTACH;FMTTYPE=image/png:https://saintyrieixsurcharente.fr/wp-content/uploads/2023/09/Visuel-agenda-site-internet.png
END:VEVENT
END:VCALENDAR